BEGIN:VCALENDAR
VERSION:2.0
PRODID:-//Clearpoint Home and School - ECPv6.15.20//NONSGML v1.0//EN
CALSCALE:GREGORIAN
METHOD:PUBLISH
X-WR-CALNAME:Clearpoint Home and School
X-ORIGINAL-URL:https://clearpointhands.ca
X-WR-CALDESC:Events for Clearpoint Home and School
REFRESH-INTERVAL;VALUE=DURATION:PT1H
X-Robots-Tag:noindex
X-PUBLISHED-TTL:PT1H
BEGIN:VTIMEZONE
TZID:America/New_York
BEGIN:DAYLIGHT
TZOFFSETFROM:-0500
TZOFFSETTO:-0400
TZNAME:EDT
DTSTART:20210314T070000
END:DAYLIGHT
BEGIN:STANDARD
TZOFFSETFROM:-0400
TZOFFSETTO:-0500
TZNAME:EST
DTSTART:20211107T060000
END:STANDARD
BEGIN:DAYLIGHT
TZOFFSETFROM:-0500
TZOFFSETTO:-0400
TZNAME:EDT
DTSTART:20220313T070000
END:DAYLIGHT
BEGIN:STANDARD
TZOFFSETFROM:-0400
TZOFFSETTO:-0500
TZNAME:EST
DTSTART:20221106T060000
END:STANDARD
BEGIN:DAYLIGHT
TZOFFSETFROM:-0500
TZOFFSETTO:-0400
TZNAME:EDT
DTSTART:20230312T070000
END:DAYLIGHT
BEGIN:STANDARD
TZOFFSETFROM:-0400
TZOFFSETTO:-0500
TZNAME:EST
DTSTART:20231105T060000
END:STANDARD
END:VTIMEZONE
BEGIN:VTIMEZONE
TZID:America/Toronto
BEGIN:DAYLIGHT
TZOFFSETFROM:-0500
TZOFFSETTO:-0400
TZNAME:EDT
DTSTART:20210314T070000
END:DAYLIGHT
BEGIN:STANDARD
TZOFFSETFROM:-0400
TZOFFSETTO:-0500
TZNAME:EST
DTSTART:20211107T060000
END:STANDARD
BEGIN:DAYLIGHT
TZOFFSETFROM:-0500
TZOFFSETTO:-0400
TZNAME:EDT
DTSTART:20220313T070000
END:DAYLIGHT
BEGIN:STANDARD
TZOFFSETFROM:-0400
TZOFFSETTO:-0500
TZNAME:EST
DTSTART:20221106T060000
END:STANDARD
BEGIN:DAYLIGHT
TZOFFSETFROM:-0500
TZOFFSETTO:-0400
TZNAME:EDT
DTSTART:20230312T070000
END:DAYLIGHT
BEGIN:STANDARD
TZOFFSETFROM:-0400
TZOFFSETTO:-0500
TZNAME:EST
DTSTART:20231105T060000
END:STANDARD
END:VTIMEZONE
BEGIN:VEVENT
DTSTART;TZID=America/New_York:20220927T190000
DTEND;TZID=America/New_York:20221007T235900
DTSTAMP:20260419T083500
CREATED:20191007T174929Z
LAST-MODIFIED:20230927T221724Z
UID:10001151-1664305200-1665187140@clearpointhands.ca
SUMMARY:Order Veggie Baskets ONLINE
DESCRIPTION:Local Organic Veggies\nSupport your school by ordering delicious vegetable baskets from a local organic family farm!\nEach basket is comprised of autumn veggies\, valued at 32$\nOrder for your family\, friends and neighbours!\nOrder from September 29 until end of October 7.\n\n\nClick here to order your basket(s)\n\n\nPick up at the Clearpoint Elementary school gym.\nPlease bring your grocery bags and a cup for cup of soup.\nFriday\, October 21st from 3:30 to 5:30 p.m.
URL:https://clearpointhands.ca/event/order-veggie-baskets-online/
LOCATION:Online
CATEGORIES:fundraising event,School Community Events
ATTACH;FMTTYPE=image/jpeg:https://clearpointhands.ca/wp-content/uploads/sites/14/2019/10/ClearpointDigitalpost_for_social_media.jpg
ORGANIZER;CN="Home & School":MAILTO:info@clearpointhands.ca
END:VEVENT
BEGIN:VEVENT
DTSTART;TZID=America/New_York:20221003T080000
DTEND;TZID=America/New_York:20221003T143000
DTSTAMP:20260419T083500
CREATED:20220830T154826Z
LAST-MODIFIED:20220830T154930Z
UID:10000657-1664784000-1664807400@clearpointhands.ca
SUMMARY:PED day
DESCRIPTION:No School – check for status of day care on the particular date.
URL:https://clearpointhands.ca/event/ped-day-3/2022-10-03/
CATEGORIES:no school
END:VEVENT
BEGIN:VEVENT
DTSTART;TZID=America/New_York:20221010T080000
DTEND;TZID=America/New_York:20221010T143000
DTSTAMP:20260419T083500
CREATED:20220830T155746Z
LAST-MODIFIED:20220830T155747Z
UID:10001210-1665388800-1665412200@clearpointhands.ca
SUMMARY:Thanksgiving - no school
DESCRIPTION:
URL:https://clearpointhands.ca/event/thanksgiving-no-school-2/
LOCATION:Clearpoint Elementary\, 17 Cedar Avenue\, Pointe-Claire\, QC\, H9S 4Y1\, Canada
CATEGORIES:no school
GEO:45.4354552;-73.815177
X-APPLE-STRUCTURED-LOCATION;VALUE=URI;X-ADDRESS=Clearpoint Elementary 17 Cedar Avenue Pointe-Claire QC H9S 4Y1 Canada;X-APPLE-RADIUS=500;X-TITLE=17 Cedar Avenue:geo:-73.815177,45.4354552
END:VEVENT
BEGIN:VEVENT
DTSTART;TZID=America/New_York:20221014T080000
DTEND;TZID=America/New_York:20221014T143000
DTSTAMP:20260419T083500
CREATED:20220830T154826Z
LAST-MODIFIED:20220830T154930Z
UID:10000658-1665734400-1665757800@clearpointhands.ca
SUMMARY:PED day
DESCRIPTION:No School – check for status of day care on the particular date.
URL:https://clearpointhands.ca/event/ped-day-3/2022-10-14/
CATEGORIES:no school
END:VEVENT
BEGIN:VEVENT
DTSTART;TZID=America/New_York:20221016T190000
DTEND;TZID=America/New_York:20221019T190000
DTSTAMP:20260419T083500
CREATED:20221016T020714Z
LAST-MODIFIED:20230116T193340Z
UID:10000720-1665946800-1666206000@clearpointhands.ca
SUMMARY:Lunch Activities Registration
DESCRIPTION:Extracurricular Activities are Back!\nClearpoint Home & School is excited to be able to offer lunch activities again! Click the button to browse the options.\n\nSpots and activities are VERY limited this time around\, so you will want to set your alarm to be on the website ready to register at:\n7:00pm SHARP on Sunday\, October 16th\nClick here to register
URL:https://clearpointhands.ca/event/lunch-activities-registration-opens/
LOCATION:Online
CATEGORIES:fundraising event
ATTACH;FMTTYPE=image/jpeg:https://clearpointhands.ca/wp-content/uploads/sites/14/2017/03/Clown-spring-activities-square.jpg
ORGANIZER;CN="Home & School":MAILTO:info@clearpointhands.ca
END:VEVENT
BEGIN:VEVENT
DTSTART;TZID=America/New_York:20221021T153000
DTEND;TZID=America/New_York:20221021T173000
DTSTAMP:20260419T083500
CREATED:20191108T080552Z
LAST-MODIFIED:20230927T221726Z
UID:10001152-1666366200-1666373400@clearpointhands.ca
SUMMARY:Schools Take Root Veggie Basket Pick Up
DESCRIPTION:Pick up will be in Clearpoint school gym.\nPlease bring your grocery bags and a cup for cup of soup.
URL:https://clearpointhands.ca/event/schools-take-root-veggie-basket-pick-up/
LOCATION:Clearpoint Elementary\, 17 Cedar Avenue\, Pointe-Claire\, QC\, H9S 4Y1\, Canada
CATEGORIES:fundraising event,School Community Events
ATTACH;FMTTYPE=image/jpeg:https://clearpointhands.ca/wp-content/uploads/sites/14/2019/10/veggiebasket.jpg
ORGANIZER;CN="Home & School":MAILTO:info@clearpointhands.ca
GEO:45.4354552;-73.815177
X-APPLE-STRUCTURED-LOCATION;VALUE=URI;X-ADDRESS=Clearpoint Elementary 17 Cedar Avenue Pointe-Claire QC H9S 4Y1 Canada;X-APPLE-RADIUS=500;X-TITLE=17 Cedar Avenue:geo:-73.815177,45.4354552
END:VEVENT
BEGIN:VEVENT
DTSTART;TZID=America/New_York:20221025T112000
DTEND;TZID=America/New_York:20221025T122000
DTSTAMP:20260419T083500
CREATED:20221016T013832Z
LAST-MODIFIED:20221016T014532Z
UID:10000705-1666696800-1666700400@clearpointhands.ca
SUMMARY:Junior Jams Hip Hop - Gr 1-4
DESCRIPTION:After Sunday\, October 16 @ 7pm: Click here to register \nStudents get to dance and learn choreographies to the latest hip-hop & pop songs on the radio.\nIt’s the perfect fusion of theatrical\, lyrical jazz\, hip-hop and other popular styles of dance. With an element of freestyle and independent group work\, students have the chance to explore their creative side and even choreograph themselves. \n\n\n\nmaximum of 25 students\n\n\n\n\n\nInstructor: Junior Jams\n 
URL:https://clearpointhands.ca/event/junior-jams-hip-hop-gr-1-4/2022-10-25/
CATEGORIES:ecas,grade 1,grade 2,grade 3,grade 4,Junior Jams,lunch activities
ATTACH;FMTTYPE=image/jpeg:https://clearpointhands.ca/wp-content/uploads/sites/14/2022/10/NicolesJuniorJamsLOGO.jpg
ORGANIZER;CN="Home & School":MAILTO:info@clearpointhands.ca
END:VEVENT
BEGIN:VEVENT
DTSTART;TZID=America/Toronto:20221025T113000
DTEND;TZID=America/Toronto:20221025T123000
DTSTAMP:20260419T083500
CREATED:20220912T223259Z
LAST-MODIFIED:20220913T155002Z
UID:10000674-1666697400-1666701000@clearpointhands.ca
SUMMARY:Pizza Lunch
DESCRIPTION:Take a break from lunch-making! \n\n\n\nPlease still send a drink and snack for your child on pizza day.
URL:https://clearpointhands.ca/event/pizza-lunch-26/2022-10-25/
CATEGORIES:Pizza Lunch & TCBY
ATTACH;FMTTYPE=image/jpeg:https://clearpointhands.ca/wp-content/uploads/sites/14/2017/09/cheesepizza.jpg
END:VEVENT
BEGIN:VEVENT
DTSTART;TZID=America/New_York:20221025T113000
DTEND;TZID=America/New_York:20221028T123000
DTSTAMP:20260419T083500
CREATED:20221020T205306Z
LAST-MODIFIED:20230116T193335Z
UID:10000722-1666697400-1666960200@clearpointhands.ca
SUMMARY:Lunch Activities BEGIN!
DESCRIPTION:Extracurricular Activities are Back!\nClearpoint Home & School is excited to be able to offer lunch activities again!\n\nOur classes are full and start today! Check your receipt if you registered for a link to the schedule for your child’s activities.
URL:https://clearpointhands.ca/event/lunch-activities-begin/
LOCATION:Online
CATEGORIES:fundraising event
ATTACH;FMTTYPE=image/jpeg:https://clearpointhands.ca/wp-content/uploads/sites/14/2017/03/Clown-spring-activities-square.jpg
ORGANIZER;CN="Home & School":MAILTO:info@clearpointhands.ca
END:VEVENT
BEGIN:VEVENT
DTSTART;TZID=America/New_York:20221025T183000
DTEND;TZID=America/New_York:20221025T200000
DTSTAMP:20260419T083500
CREATED:20221019T022853Z
LAST-MODIFIED:20230911T210954Z
UID:10000721-1666722600-1666728000@clearpointhands.ca
SUMMARY:Home & School Meeting
DESCRIPTION:Join us Tuesday Oct. 25th for our next meeting for Home & School. Open to all parents of Clearpoint students\, come and get involved! \n\n\n\nIf you want to join our membership and have a vote on matters concerning what fundraising and where we are going to invest those funds\, click here to register. It’s only $20/family. \n\n\n\nClick here at the time of the meeting: Google Meet Link \n\n\n\n\n\n\n\n\nGoogle Meet Link
URL:https://clearpointhands.ca/event/home-school-meeting-27/
CATEGORIES:meetings,School Community Events
ATTACH;FMTTYPE=image/jpeg:https://clearpointhands.ca/wp-content/uploads/sites/14/2016/05/ac59abef005318578f7824723335b0ca81976a3dea4444c722305623af2d933a-uVzy2P.jpeg
END:VEVENT
BEGIN:VEVENT
DTSTART;TZID=America/New_York:20221027T112000
DTEND;TZID=America/New_York:20221027T121000
DTSTAMP:20260419T083500
CREATED:20221016T014830Z
LAST-MODIFIED:20221016T014914Z
UID:10000713-1666869600-1666872600@clearpointhands.ca
SUMMARY:Junior Engineers - Gr 2-6
DESCRIPTION:After Sunday\, October 16 @ 7pm: Click here to register \nJunior Engineers\n\n\n\nHow do we perceive the world around us? \nOur junior engineers will dabble in kitchen chemistry and the mystery of weather. Children will learn the science behind movies\, toys and machines. \nAre they curious? Let’s see what happens when they play the role of detective! \n\n\n\nmaximum of 24 kids\n\n\n\n\n\n \n\n\n\n\n\n\n\n\n \n\n\n\n 
URL:https://clearpointhands.ca/event/junior-engineers-gr-2-6/2022-10-27/
CATEGORIES:ecas,grade 2,grade 3,grade 4,grade 5,grade 6,lunch activities,Science
ATTACH;FMTTYPE=image/jpeg:https://clearpointhands.ca/wp-content/uploads/sites/14/2022/10/exploring-kids2.jpg
END:VEVENT
BEGIN:VEVENT
DTSTART;TZID=America/New_York:20221028T112000
DTEND;TZID=America/New_York:20221028T121000
DTSTAMP:20260419T083500
CREATED:20221016T012349Z
LAST-MODIFIED:20221020T210317Z
UID:10000682-1666956000-1666959000@clearpointhands.ca
SUMMARY:Comic Book Creation - Gr 2-6
DESCRIPTION:Create your very own comic book!\nEnter into the world of Comic Books and discover techniques to draw; eyes\, noses\, mouths to proportion to create your own characters! Learn to draw special effects\, sound effects\, speech bubbles\, backgrounds and how to work with perspectives! \nDiscover the techniques to draw in the cartoon style! Learn from the “Comic Strip” Comic books. Create your own fun and dynamic characters all while learning the basics of the comic book world. Speech bubbles\, sound effects and backgrounds will no longer be a mystery for you. \n\n\n\nmaximum of 23 students\n\n\n\n\n\nInstructor: Sheltoons\n  \n\n\n\n\n\n\n\n\n \n\n\n\n 
URL:https://clearpointhands.ca/event/comic-book-creation-gr-2-6/2022-10-28/
CATEGORIES:cartooning,ecas,grade 2,grade 3,grade 4,grade 5,grade 6,lunch activities
ATTACH;FMTTYPE=image/jpeg:https://clearpointhands.ca/wp-content/uploads/sites/14/2022/10/sheltoons-logo.jpg
END:VEVENT
BEGIN:VEVENT
DTSTART;TZID=America/New_York:20221031T112000
DTEND;TZID=America/New_York:20221031T121000
DTSTAMP:20260419T083500
CREATED:20221016T012827Z
LAST-MODIFIED:20221019T173902Z
UID:10000689-1667215200-1667218200@clearpointhands.ca
SUMMARY:Cabaret Kids - Gr 3-6
DESCRIPTION:After Sunday\, October 16 @ 7pm: Click here to register \nYouth Drama\n\n\n\nIntro to drama\, learn acting skills\, through games\, improv and music. \n\n\n\nmaximum of 20 kids\n\n\n\n\n\nInstructor: Cabaret kids\n\n\n\n\n\n\n\n\n \n\n\n\n 
URL:https://clearpointhands.ca/event/cabaret-kids-gr-3-6/2022-10-31/
CATEGORIES:drama,ecas,grade 3,grade 4,grade 5,grade 6,lunch activities
ATTACH;FMTTYPE=image/jpeg:https://clearpointhands.ca/wp-content/uploads/sites/14/2022/10/youth-drama.jpg
END:VEVENT
END:VCALENDAR