BEGIN:VCALENDAR
VERSION:2.0
PRODID:-//Clearpoint Home and School - ECPv6.15.20//NONSGML v1.0//EN
CALSCALE:GREGORIAN
METHOD:PUBLISH
X-ORIGINAL-URL:https://clearpointhands.ca
X-WR-CALDESC:Events for Clearpoint Home and School
REFRESH-INTERVAL;VALUE=DURATION:PT1H
X-Robots-Tag:noindex
X-PUBLISHED-TTL:PT1H
BEGIN:VTIMEZONE
TZID:America/New_York
BEGIN:DAYLIGHT
TZOFFSETFROM:-0500
TZOFFSETTO:-0400
TZNAME:EDT
DTSTART:20210314T070000
END:DAYLIGHT
BEGIN:STANDARD
TZOFFSETFROM:-0400
TZOFFSETTO:-0500
TZNAME:EST
DTSTART:20211107T060000
END:STANDARD
BEGIN:DAYLIGHT
TZOFFSETFROM:-0500
TZOFFSETTO:-0400
TZNAME:EDT
DTSTART:20220313T070000
END:DAYLIGHT
BEGIN:STANDARD
TZOFFSETFROM:-0400
TZOFFSETTO:-0500
TZNAME:EST
DTSTART:20221106T060000
END:STANDARD
BEGIN:DAYLIGHT
TZOFFSETFROM:-0500
TZOFFSETTO:-0400
TZNAME:EDT
DTSTART:20230312T070000
END:DAYLIGHT
BEGIN:STANDARD
TZOFFSETFROM:-0400
TZOFFSETTO:-0500
TZNAME:EST
DTSTART:20231105T060000
END:STANDARD
END:VTIMEZONE
BEGIN:VEVENT
DTSTART;TZID=America/New_York:20220415T120000
DTEND;TZID=America/New_York:20220515T170000
DTSTAMP:20260419T160700
CREATED:20220416T163614Z
LAST-MODIFIED:20220416T164015Z
UID:10000652-1650024000-1652634000@clearpointhands.ca
SUMMARY:Order your Plantables - until May 15
DESCRIPTION:How It Works: \n\n\n\nVisit Plantables.caPick Your PlantsChoose your delivery weekPlants are delivered to your door!\n\n\n\nUse our code CLEARPOINT and a portion of the proceeds will go to Home & School at Clearpoint.
URL:https://clearpointhands.ca/event/order-your-plantables/
CATEGORIES:fundraising event
ATTACH;FMTTYPE=image/png:https://clearpointhands.ca/wp-content/uploads/sites/14/2021/05/plantables-logo.png
ORGANIZER;CN="Home & School":MAILTO:info@clearpointhands.ca
END:VEVENT
BEGIN:VEVENT
DTSTART;TZID=America/New_York:20220503T113000
DTEND;TZID=America/New_York:20220503T123000
DTSTAMP:20260419T160700
CREATED:20211005T110002Z
LAST-MODIFIED:20220207T232910Z
UID:10000635-1651577400-1651581000@clearpointhands.ca
SUMMARY:Pizza Lunch
DESCRIPTION:
URL:https://clearpointhands.ca/event/pizza-lunch-25/2022-05-03/
LOCATION:Clearpoint Elementary\, 17 Cedar Avenue\, Pointe-Claire\, QC\, H9S 4Y1\, Canada
CATEGORIES:Pizza Lunch & TCBY
ATTACH;FMTTYPE=image/jpeg:https://clearpointhands.ca/wp-content/uploads/sites/14/2016/09/1240588-e1473400214545.jpg
ORGANIZER;CN="Home & School":MAILTO:info@clearpointhands.ca
GEO:45.4354552;-73.815177
X-APPLE-STRUCTURED-LOCATION;VALUE=URI;X-ADDRESS=Clearpoint Elementary 17 Cedar Avenue Pointe-Claire QC H9S 4Y1 Canada;X-APPLE-RADIUS=500;X-TITLE=17 Cedar Avenue:geo:-73.815177,45.4354552
END:VEVENT
BEGIN:VEVENT
DTSTART;TZID=America/New_York:20220503T183000
DTEND;TZID=America/New_York:20220503T200000
DTSTAMP:20260419T160700
CREATED:20220112T035059Z
LAST-MODIFIED:20220112T035059Z
UID:10001204-1651602600-1651608000@clearpointhands.ca
SUMMARY:Home & School Meeting
DESCRIPTION:
URL:https://clearpointhands.ca/event/home-school-meeting-25/2022-05-03/
LOCATION:Online
CATEGORIES:meetings
ATTACH;FMTTYPE=image/jpeg:https://clearpointhands.ca/wp-content/uploads/sites/14/2016/05/ac59abef005318578f7824723335b0ca81976a3dea4444c722305623af2d933a-uVzy2P.jpeg
ORGANIZER;CN="Home & School":MAILTO:info@clearpointhands.ca
END:VEVENT
BEGIN:VEVENT
DTSTART;TZID=America/New_York:20220513T080000
DTEND;TZID=America/New_York:20220513T143000
DTSTAMP:20260419T160700
CREATED:20211110T033402Z
LAST-MODIFIED:20211110T033648Z
UID:10001196-1652428800-1652452200@clearpointhands.ca
SUMMARY:PED day - no school
DESCRIPTION:
URL:https://clearpointhands.ca/event/ped-day-no-school-15/2022-05-13/
LOCATION:Clearpoint Elementary\, 17 Cedar Avenue\, Pointe-Claire\, QC\, H9S 4Y1\, Canada
CATEGORIES:no school
GEO:45.4354552;-73.815177
X-APPLE-STRUCTURED-LOCATION;VALUE=URI;X-ADDRESS=Clearpoint Elementary 17 Cedar Avenue Pointe-Claire QC H9S 4Y1 Canada;X-APPLE-RADIUS=500;X-TITLE=17 Cedar Avenue:geo:-73.815177,45.4354552
END:VEVENT
BEGIN:VEVENT
DTSTART;TZID=America/New_York:20220517T113000
DTEND;TZID=America/New_York:20220517T123000
DTSTAMP:20260419T160700
CREATED:20211005T110002Z
LAST-MODIFIED:20220207T232910Z
UID:10000636-1652787000-1652790600@clearpointhands.ca
SUMMARY:Pizza Lunch
DESCRIPTION:
URL:https://clearpointhands.ca/event/pizza-lunch-25/2022-05-17/
LOCATION:Clearpoint Elementary\, 17 Cedar Avenue\, Pointe-Claire\, QC\, H9S 4Y1\, Canada
CATEGORIES:Pizza Lunch & TCBY
ATTACH;FMTTYPE=image/jpeg:https://clearpointhands.ca/wp-content/uploads/sites/14/2016/09/1240588-e1473400214545.jpg
ORGANIZER;CN="Home & School":MAILTO:info@clearpointhands.ca
GEO:45.4354552;-73.815177
X-APPLE-STRUCTURED-LOCATION;VALUE=URI;X-ADDRESS=Clearpoint Elementary 17 Cedar Avenue Pointe-Claire QC H9S 4Y1 Canada;X-APPLE-RADIUS=500;X-TITLE=17 Cedar Avenue:geo:-73.815177,45.4354552
END:VEVENT
BEGIN:VEVENT
DTSTART;TZID=America/New_York:20220523T080000
DTEND;TZID=America/New_York:20220523T143000
DTSTAMP:20260419T160700
CREATED:20180830T145155Z
LAST-MODIFIED:20210830T222955Z
UID:10001147-1653292800-1653316200@clearpointhands.ca
SUMMARY:Victoria Day - no school
DESCRIPTION:
URL:https://clearpointhands.ca/event/victoria-day-no-school/
LOCATION:Clearpoint Elementary\, 17 Cedar Avenue\, Pointe-Claire\, QC\, H9S 4Y1\, Canada
CATEGORIES:no school
GEO:45.4354552;-73.815177
X-APPLE-STRUCTURED-LOCATION;VALUE=URI;X-ADDRESS=Clearpoint Elementary 17 Cedar Avenue Pointe-Claire QC H9S 4Y1 Canada;X-APPLE-RADIUS=500;X-TITLE=17 Cedar Avenue:geo:-73.815177,45.4354552
END:VEVENT
BEGIN:VEVENT
DTSTART;TZID=America/New_York:20220531T113000
DTEND;TZID=America/New_York:20220531T123000
DTSTAMP:20260419T160700
CREATED:20211005T110002Z
LAST-MODIFIED:20220207T232910Z
UID:10000637-1653996600-1654000200@clearpointhands.ca
SUMMARY:Pizza Lunch
DESCRIPTION:
URL:https://clearpointhands.ca/event/pizza-lunch-25/2022-05-31/
LOCATION:Clearpoint Elementary\, 17 Cedar Avenue\, Pointe-Claire\, QC\, H9S 4Y1\, Canada
CATEGORIES:Pizza Lunch & TCBY
ATTACH;FMTTYPE=image/jpeg:https://clearpointhands.ca/wp-content/uploads/sites/14/2016/09/1240588-e1473400214545.jpg
ORGANIZER;CN="Home & School":MAILTO:info@clearpointhands.ca
GEO:45.4354552;-73.815177
X-APPLE-STRUCTURED-LOCATION;VALUE=URI;X-ADDRESS=Clearpoint Elementary 17 Cedar Avenue Pointe-Claire QC H9S 4Y1 Canada;X-APPLE-RADIUS=500;X-TITLE=17 Cedar Avenue:geo:-73.815177,45.4354552
END:VEVENT
END:VCALENDAR