BEGIN:VCALENDAR
VERSION:2.0
PRODID:-//Clearpoint Home and School - ECPv6.15.20//NONSGML v1.0//EN
CALSCALE:GREGORIAN
METHOD:PUBLISH
X-ORIGINAL-URL:https://clearpointhands.ca
X-WR-CALDESC:Events for Clearpoint Home and School
REFRESH-INTERVAL;VALUE=DURATION:PT1H
X-Robots-Tag:noindex
X-PUBLISHED-TTL:PT1H
BEGIN:VTIMEZONE
TZID:America/New_York
BEGIN:DAYLIGHT
TZOFFSETFROM:-0500
TZOFFSETTO:-0400
TZNAME:EDT
DTSTART:20210314T070000
END:DAYLIGHT
BEGIN:STANDARD
TZOFFSETFROM:-0400
TZOFFSETTO:-0500
TZNAME:EST
DTSTART:20211107T060000
END:STANDARD
BEGIN:DAYLIGHT
TZOFFSETFROM:-0500
TZOFFSETTO:-0400
TZNAME:EDT
DTSTART:20220313T070000
END:DAYLIGHT
BEGIN:STANDARD
TZOFFSETFROM:-0400
TZOFFSETTO:-0500
TZNAME:EST
DTSTART:20221106T060000
END:STANDARD
BEGIN:DAYLIGHT
TZOFFSETFROM:-0500
TZOFFSETTO:-0400
TZNAME:EDT
DTSTART:20230312T070000
END:DAYLIGHT
BEGIN:STANDARD
TZOFFSETFROM:-0400
TZOFFSETTO:-0500
TZNAME:EST
DTSTART:20231105T060000
END:STANDARD
END:VTIMEZONE
BEGIN:VTIMEZONE
TZID:America/Toronto
BEGIN:DAYLIGHT
TZOFFSETFROM:-0500
TZOFFSETTO:-0400
TZNAME:EDT
DTSTART:20210314T070000
END:DAYLIGHT
BEGIN:STANDARD
TZOFFSETFROM:-0400
TZOFFSETTO:-0500
TZNAME:EST
DTSTART:20211107T060000
END:STANDARD
BEGIN:DAYLIGHT
TZOFFSETFROM:-0500
TZOFFSETTO:-0400
TZNAME:EDT
DTSTART:20220313T070000
END:DAYLIGHT
BEGIN:STANDARD
TZOFFSETFROM:-0400
TZOFFSETTO:-0500
TZNAME:EST
DTSTART:20221106T060000
END:STANDARD
BEGIN:DAYLIGHT
TZOFFSETFROM:-0500
TZOFFSETTO:-0400
TZNAME:EDT
DTSTART:20230312T070000
END:DAYLIGHT
BEGIN:STANDARD
TZOFFSETFROM:-0400
TZOFFSETTO:-0500
TZNAME:EST
DTSTART:20231105T060000
END:STANDARD
END:VTIMEZONE
BEGIN:VEVENT
DTSTART;TZID=America/New_York:20220326T000000
DTEND;TZID=America/New_York:20220410T170000
DTSTAMP:20260419T174922
CREATED:20220322T051415Z
LAST-MODIFIED:20220322T051506Z
UID:10000648-1648252800-1649610000@clearpointhands.ca
SUMMARY:Maple Syrup fundraiser
DESCRIPTION:Order online between March 26 and April 10 – pick up at the school TBD.
URL:https://clearpointhands.ca/event/maple-syrup-fundraiser-4/
LOCATION:Clearpoint Elementary\, 17 Cedar Avenue\, Pointe-Claire\, QC\, H9S 4Y1\, Canada
CATEGORIES:fundraising event
ATTACH;FMTTYPE=image/png:https://clearpointhands.ca/wp-content/uploads/sites/14/2021/04/MapleSyrupCan-sq.png
GEO:45.4354552;-73.815177
X-APPLE-STRUCTURED-LOCATION;VALUE=URI;X-ADDRESS=Clearpoint Elementary 17 Cedar Avenue Pointe-Claire QC H9S 4Y1 Canada;X-APPLE-RADIUS=500;X-TITLE=17 Cedar Avenue:geo:-73.815177,45.4354552
END:VEVENT
BEGIN:VEVENT
DTSTART;TZID=America/Toronto:20220328T183000
DTEND;TZID=America/Toronto:20220405T190000
DTSTAMP:20260419T174922
CREATED:20220322T050612Z
LAST-MODIFIED:20220401T014001Z
UID:10000647-1648492200-1649185200@clearpointhands.ca
SUMMARY:Extracurricular Activities Registration
DESCRIPTION:We’re excited to announce the return of Extracurricular Activities! Click the button below to browse the activities and to register beginning on March 28 at 6:30PM sharp!
URL:https://clearpointhands.ca/event/extracurricular-activities-registration/
LOCATION:Clearpoint Elementary\, 17 Cedar Avenue\, Pointe-Claire\, QC\, H9S 4Y1\, Canada
CATEGORIES:fundraising event
ATTACH;FMTTYPE=image/jpeg:https://clearpointhands.ca/wp-content/uploads/sites/14/2018/04/karate-kids-e1523333684504.jpg
GEO:45.4354552;-73.815177
X-APPLE-STRUCTURED-LOCATION;VALUE=URI;X-ADDRESS=Clearpoint Elementary 17 Cedar Avenue Pointe-Claire QC H9S 4Y1 Canada;X-APPLE-RADIUS=500;X-TITLE=17 Cedar Avenue:geo:-73.815177,45.4354552
END:VEVENT
BEGIN:VEVENT
DTSTART;TZID=America/New_York:20220402T090000
DTEND;TZID=America/New_York:20220410T170000
DTSTAMP:20260419T174922
CREATED:20220322T052721Z
LAST-MODIFIED:20220402T022615Z
UID:10000650-1648890000-1649610000@clearpointhands.ca
SUMMARY:Reading Week Book Fairs
DESCRIPTION:Shop online or in-person and support Clearpoint during this year’s Reading Week!
URL:https://clearpointhands.ca/event/book-fairs/
CATEGORIES:fundraising event
ATTACH;FMTTYPE=image/png:https://clearpointhands.ca/wp-content/uploads/sites/14/2020/11/larger-icons-books.png
END:VEVENT
BEGIN:VEVENT
DTSTART;TZID=America/New_York:20220405T113000
DTEND;TZID=America/New_York:20220405T123000
DTSTAMP:20260419T174922
CREATED:20211005T110002Z
LAST-MODIFIED:20220207T232910Z
UID:10000633-1649158200-1649161800@clearpointhands.ca
SUMMARY:Pizza Lunch
DESCRIPTION:
URL:https://clearpointhands.ca/event/pizza-lunch-25/2022-04-05/
LOCATION:Clearpoint Elementary\, 17 Cedar Avenue\, Pointe-Claire\, QC\, H9S 4Y1\, Canada
CATEGORIES:Pizza Lunch & TCBY
ATTACH;FMTTYPE=image/jpeg:https://clearpointhands.ca/wp-content/uploads/sites/14/2016/09/1240588-e1473400214545.jpg
ORGANIZER;CN="Home & School":MAILTO:info@clearpointhands.ca
GEO:45.4354552;-73.815177
X-APPLE-STRUCTURED-LOCATION;VALUE=URI;X-ADDRESS=Clearpoint Elementary 17 Cedar Avenue Pointe-Claire QC H9S 4Y1 Canada;X-APPLE-RADIUS=500;X-TITLE=17 Cedar Avenue:geo:-73.815177,45.4354552
END:VEVENT
BEGIN:VEVENT
DTSTART;TZID=America/New_York:20220411T183000
DTEND;TZID=America/New_York:20220411T200000
DTSTAMP:20260419T174922
CREATED:20220112T035059Z
LAST-MODIFIED:20220412T181421Z
UID:10001205-1649701800-1649707200@clearpointhands.ca
SUMMARY:Home & School Meeting
DESCRIPTION:
URL:https://clearpointhands.ca/event/home-school-meeting-25-2022-04-12/
LOCATION:Online
CATEGORIES:meetings
ATTACH;FMTTYPE=image/jpeg:https://clearpointhands.ca/wp-content/uploads/sites/14/2016/05/ac59abef005318578f7824723335b0ca81976a3dea4444c722305623af2d933a-uVzy2P.jpeg
ORGANIZER;CN="Home & School":MAILTO:info@clearpointhands.ca
END:VEVENT
BEGIN:VEVENT
DTSTART;TZID=America/New_York:20220413T140000
DTEND;TZID=America/New_York:20220413T170000
DTSTAMP:20260419T174922
CREATED:20220412T181824Z
LAST-MODIFIED:20220412T181825Z
UID:10000651-1649858400-1649869200@clearpointhands.ca
SUMMARY:Maple Syrup Pick-Up
DESCRIPTION:If you ordered Maple Syrup – check your email inbox!
URL:https://clearpointhands.ca/event/maple-syrup-pick-up-6/
LOCATION:Clearpoint Elementary\, 17 Cedar Avenue\, Pointe-Claire\, QC\, H9S 4Y1\, Canada
CATEGORIES:fundraising event
ATTACH;FMTTYPE=image/jpeg:https://clearpointhands.ca/wp-content/uploads/sites/14/2017/03/Maplesyrupbottle_sq.jpg
GEO:45.4354552;-73.815177
X-APPLE-STRUCTURED-LOCATION;VALUE=URI;X-ADDRESS=Clearpoint Elementary 17 Cedar Avenue Pointe-Claire QC H9S 4Y1 Canada;X-APPLE-RADIUS=500;X-TITLE=17 Cedar Avenue:geo:-73.815177,45.4354552
END:VEVENT
BEGIN:VEVENT
DTSTART;TZID=America/New_York:20220415T080000
DTEND;TZID=America/New_York:20220415T143000
DTSTAMP:20260419T174922
CREATED:20180830T144814Z
LAST-MODIFIED:20211110T034120Z
UID:10001140-1650009600-1650033000@clearpointhands.ca
SUMMARY:Good Friday - no school
DESCRIPTION:
URL:https://clearpointhands.ca/event/good-friday-no-school/
LOCATION:Clearpoint Elementary\, 17 Cedar Avenue\, Pointe-Claire\, QC\, H9S 4Y1\, Canada
CATEGORIES:no school
GEO:45.4354552;-73.815177
X-APPLE-STRUCTURED-LOCATION;VALUE=URI;X-ADDRESS=Clearpoint Elementary 17 Cedar Avenue Pointe-Claire QC H9S 4Y1 Canada;X-APPLE-RADIUS=500;X-TITLE=17 Cedar Avenue:geo:-73.815177,45.4354552
END:VEVENT
BEGIN:VEVENT
DTSTART;TZID=America/New_York:20220415T120000
DTEND;TZID=America/New_York:20220515T170000
DTSTAMP:20260419T174922
CREATED:20220416T163614Z
LAST-MODIFIED:20220416T164015Z
UID:10000652-1650024000-1652634000@clearpointhands.ca
SUMMARY:Order your Plantables - until May 15
DESCRIPTION:How It Works: \n\n\n\nVisit Plantables.caPick Your PlantsChoose your delivery weekPlants are delivered to your door!\n\n\n\nUse our code CLEARPOINT and a portion of the proceeds will go to Home & School at Clearpoint.
URL:https://clearpointhands.ca/event/order-your-plantables/
CATEGORIES:fundraising event
ATTACH;FMTTYPE=image/png:https://clearpointhands.ca/wp-content/uploads/sites/14/2021/05/plantables-logo.png
ORGANIZER;CN="Home & School":MAILTO:info@clearpointhands.ca
END:VEVENT
BEGIN:VEVENT
DTSTART;TZID=America/New_York:20220416T080000
DTEND;TZID=America/New_York:20220430T170000
DTSTAMP:20260419T174922
CREATED:20220416T213213Z
LAST-MODIFIED:20220416T214246Z
UID:10000653-1650096000-1651338000@clearpointhands.ca
SUMMARY:Grade 6 Grads and Home & School Mug Fundraiser - until April 30
DESCRIPTION:Just in time for Mother’s Day and Father’s Day.\n\n\n\nPurchase a 15oz mug for $15 each or a package for $20 each. \n\n\n\nPackage consists of one 15oz mug\, 2 single packs of Terra Café hot chocolate\, 2 chocolate spoons and a package of marshmallows (for 2 cups of hot chocolate). \n\n\n\nHot Chocolate and chocolate spoons are made with eco-friendly and fair-trade cocoa. \n\n\n\nChoose from 2 designs.  Purchase by April 30thand pick-up order at the school on May 6th.
URL:https://clearpointhands.ca/event/grade-6-grads-and-home-school-mug-fundraiser/
CATEGORIES:fundraising event
ATTACH;FMTTYPE=image/jpeg:https://clearpointhands.ca/wp-content/uploads/sites/14/2022/04/GrandParent-kit.jpg
END:VEVENT
BEGIN:VEVENT
DTSTART;TZID=America/New_York:20220418T080000
DTEND;TZID=America/New_York:20220418T143000
DTSTAMP:20260419T174922
CREATED:20211110T034132Z
LAST-MODIFIED:20211110T034132Z
UID:10001198-1650268800-1650292200@clearpointhands.ca
SUMMARY:Easter Monday - no school
DESCRIPTION:
URL:https://clearpointhands.ca/event/easter-monday-no-school-2/
LOCATION:Clearpoint Elementary\, 17 Cedar Avenue\, Pointe-Claire\, QC\, H9S 4Y1\, Canada
CATEGORIES:no school
GEO:45.4354552;-73.815177
X-APPLE-STRUCTURED-LOCATION;VALUE=URI;X-ADDRESS=Clearpoint Elementary 17 Cedar Avenue Pointe-Claire QC H9S 4Y1 Canada;X-APPLE-RADIUS=500;X-TITLE=17 Cedar Avenue:geo:-73.815177,45.4354552
END:VEVENT
BEGIN:VEVENT
DTSTART;TZID=America/New_York:20220419T080000
DTEND;TZID=America/New_York:20220419T143000
DTSTAMP:20260419T174922
CREATED:20211110T033402Z
LAST-MODIFIED:20211110T033648Z
UID:10001195-1650355200-1650378600@clearpointhands.ca
SUMMARY:PED day - no school
DESCRIPTION:
URL:https://clearpointhands.ca/event/ped-day-no-school-15/2022-04-19/
LOCATION:Clearpoint Elementary\, 17 Cedar Avenue\, Pointe-Claire\, QC\, H9S 4Y1\, Canada
CATEGORIES:no school
GEO:45.4354552;-73.815177
X-APPLE-STRUCTURED-LOCATION;VALUE=URI;X-ADDRESS=Clearpoint Elementary 17 Cedar Avenue Pointe-Claire QC H9S 4Y1 Canada;X-APPLE-RADIUS=500;X-TITLE=17 Cedar Avenue:geo:-73.815177,45.4354552
END:VEVENT
BEGIN:VEVENT
DTSTART;TZID=America/New_York:20220420T113000
DTEND;TZID=America/New_York:20220420T123000
DTSTAMP:20260419T174922
CREATED:20211005T110002Z
LAST-MODIFIED:20220207T232910Z
UID:10000634-1650454200-1650457800@clearpointhands.ca
SUMMARY:Pizza Lunch
DESCRIPTION:
URL:https://clearpointhands.ca/event/pizza-lunch-25/2022-04-20/
LOCATION:Clearpoint Elementary\, 17 Cedar Avenue\, Pointe-Claire\, QC\, H9S 4Y1\, Canada
CATEGORIES:Pizza Lunch & TCBY
ATTACH;FMTTYPE=image/jpeg:https://clearpointhands.ca/wp-content/uploads/sites/14/2016/09/1240588-e1473400214545.jpg
ORGANIZER;CN="Home & School":MAILTO:info@clearpointhands.ca
GEO:45.4354552;-73.815177
X-APPLE-STRUCTURED-LOCATION;VALUE=URI;X-ADDRESS=Clearpoint Elementary 17 Cedar Avenue Pointe-Claire QC H9S 4Y1 Canada;X-APPLE-RADIUS=500;X-TITLE=17 Cedar Avenue:geo:-73.815177,45.4354552
END:VEVENT
END:VCALENDAR