BEGIN:VCALENDAR
VERSION:2.0
PRODID:-//Clearpoint Home and School - ECPv6.15.20//NONSGML v1.0//EN
CALSCALE:GREGORIAN
METHOD:PUBLISH
X-ORIGINAL-URL:https://clearpointhands.ca
X-WR-CALDESC:Events for Clearpoint Home and School
REFRESH-INTERVAL;VALUE=DURATION:PT1H
X-Robots-Tag:noindex
X-PUBLISHED-TTL:PT1H
BEGIN:VTIMEZONE
TZID:America/New_York
BEGIN:DAYLIGHT
TZOFFSETFROM:-0500
TZOFFSETTO:-0400
TZNAME:EDT
DTSTART:20210314T070000
END:DAYLIGHT
BEGIN:STANDARD
TZOFFSETFROM:-0400
TZOFFSETTO:-0500
TZNAME:EST
DTSTART:20211107T060000
END:STANDARD
BEGIN:DAYLIGHT
TZOFFSETFROM:-0500
TZOFFSETTO:-0400
TZNAME:EDT
DTSTART:20220313T070000
END:DAYLIGHT
BEGIN:STANDARD
TZOFFSETFROM:-0400
TZOFFSETTO:-0500
TZNAME:EST
DTSTART:20221106T060000
END:STANDARD
BEGIN:DAYLIGHT
TZOFFSETFROM:-0500
TZOFFSETTO:-0400
TZNAME:EDT
DTSTART:20230312T070000
END:DAYLIGHT
BEGIN:STANDARD
TZOFFSETFROM:-0400
TZOFFSETTO:-0500
TZNAME:EST
DTSTART:20231105T060000
END:STANDARD
END:VTIMEZONE
BEGIN:VTIMEZONE
TZID:America/Toronto
BEGIN:DAYLIGHT
TZOFFSETFROM:-0500
TZOFFSETTO:-0400
TZNAME:EDT
DTSTART:20210314T070000
END:DAYLIGHT
BEGIN:STANDARD
TZOFFSETFROM:-0400
TZOFFSETTO:-0500
TZNAME:EST
DTSTART:20211107T060000
END:STANDARD
BEGIN:DAYLIGHT
TZOFFSETFROM:-0500
TZOFFSETTO:-0400
TZNAME:EDT
DTSTART:20220313T070000
END:DAYLIGHT
BEGIN:STANDARD
TZOFFSETFROM:-0400
TZOFFSETTO:-0500
TZNAME:EST
DTSTART:20221106T060000
END:STANDARD
BEGIN:DAYLIGHT
TZOFFSETFROM:-0500
TZOFFSETTO:-0400
TZNAME:EDT
DTSTART:20230312T070000
END:DAYLIGHT
BEGIN:STANDARD
TZOFFSETFROM:-0400
TZOFFSETTO:-0500
TZNAME:EST
DTSTART:20231105T060000
END:STANDARD
END:VTIMEZONE
BEGIN:VEVENT
DTSTART;TZID=America/New_York:20220301T080000
DTEND;TZID=America/New_York:20220301T170000
DTSTAMP:20260419T205350
CREATED:20180830T145120Z
LAST-MODIFIED:20210830T222818Z
UID:10001143-1646121600-1646154000@clearpointhands.ca
SUMMARY:Spring Break
DESCRIPTION:
URL:https://clearpointhands.ca/event/march-break-2/2022-03-01/
LOCATION:Clearpoint Elementary\, 17 Cedar Avenue\, Pointe-Claire\, QC\, H9S 4Y1\, Canada
CATEGORIES:no school
GEO:45.4354552;-73.815177
X-APPLE-STRUCTURED-LOCATION;VALUE=URI;X-ADDRESS=Clearpoint Elementary 17 Cedar Avenue Pointe-Claire QC H9S 4Y1 Canada;X-APPLE-RADIUS=500;X-TITLE=17 Cedar Avenue:geo:-73.815177,45.4354552
END:VEVENT
BEGIN:VEVENT
DTSTART;TZID=America/New_York:20220302T080000
DTEND;TZID=America/New_York:20220302T170000
DTSTAMP:20260419T205350
CREATED:20180830T145120Z
LAST-MODIFIED:20210830T222818Z
UID:10001144-1646208000-1646240400@clearpointhands.ca
SUMMARY:Spring Break
DESCRIPTION:
URL:https://clearpointhands.ca/event/march-break-2/2022-03-02/
LOCATION:Clearpoint Elementary\, 17 Cedar Avenue\, Pointe-Claire\, QC\, H9S 4Y1\, Canada
CATEGORIES:no school
GEO:45.4354552;-73.815177
X-APPLE-STRUCTURED-LOCATION;VALUE=URI;X-ADDRESS=Clearpoint Elementary 17 Cedar Avenue Pointe-Claire QC H9S 4Y1 Canada;X-APPLE-RADIUS=500;X-TITLE=17 Cedar Avenue:geo:-73.815177,45.4354552
END:VEVENT
BEGIN:VEVENT
DTSTART;TZID=America/New_York:20220303T080000
DTEND;TZID=America/New_York:20220303T170000
DTSTAMP:20260419T205350
CREATED:20180830T145120Z
LAST-MODIFIED:20210830T222818Z
UID:10001145-1646294400-1646326800@clearpointhands.ca
SUMMARY:Spring Break
DESCRIPTION:
URL:https://clearpointhands.ca/event/march-break-2/2022-03-03/
LOCATION:Clearpoint Elementary\, 17 Cedar Avenue\, Pointe-Claire\, QC\, H9S 4Y1\, Canada
CATEGORIES:no school
GEO:45.4354552;-73.815177
X-APPLE-STRUCTURED-LOCATION;VALUE=URI;X-ADDRESS=Clearpoint Elementary 17 Cedar Avenue Pointe-Claire QC H9S 4Y1 Canada;X-APPLE-RADIUS=500;X-TITLE=17 Cedar Avenue:geo:-73.815177,45.4354552
END:VEVENT
BEGIN:VEVENT
DTSTART;TZID=America/New_York:20220304T080000
DTEND;TZID=America/New_York:20220304T170000
DTSTAMP:20260419T205350
CREATED:20180830T145120Z
LAST-MODIFIED:20210830T222818Z
UID:10001146-1646380800-1646413200@clearpointhands.ca
SUMMARY:Spring Break
DESCRIPTION:
URL:https://clearpointhands.ca/event/march-break-2/2022-03-04/
LOCATION:Clearpoint Elementary\, 17 Cedar Avenue\, Pointe-Claire\, QC\, H9S 4Y1\, Canada
CATEGORIES:no school
GEO:45.4354552;-73.815177
X-APPLE-STRUCTURED-LOCATION;VALUE=URI;X-ADDRESS=Clearpoint Elementary 17 Cedar Avenue Pointe-Claire QC H9S 4Y1 Canada;X-APPLE-RADIUS=500;X-TITLE=17 Cedar Avenue:geo:-73.815177,45.4354552
END:VEVENT
BEGIN:VEVENT
DTSTART;TZID=America/New_York:20220308T113000
DTEND;TZID=America/New_York:20220308T123000
DTSTAMP:20260419T205350
CREATED:20211005T110002Z
LAST-MODIFIED:20220207T232910Z
UID:10000631-1646739000-1646742600@clearpointhands.ca
SUMMARY:Pizza Lunch
DESCRIPTION:
URL:https://clearpointhands.ca/event/pizza-lunch-25/2022-03-08/
LOCATION:Clearpoint Elementary\, 17 Cedar Avenue\, Pointe-Claire\, QC\, H9S 4Y1\, Canada
CATEGORIES:Pizza Lunch & TCBY
ATTACH;FMTTYPE=image/jpeg:https://clearpointhands.ca/wp-content/uploads/sites/14/2016/09/1240588-e1473400214545.jpg
ORGANIZER;CN="Home & School":MAILTO:info@clearpointhands.ca
GEO:45.4354552;-73.815177
X-APPLE-STRUCTURED-LOCATION;VALUE=URI;X-ADDRESS=Clearpoint Elementary 17 Cedar Avenue Pointe-Claire QC H9S 4Y1 Canada;X-APPLE-RADIUS=500;X-TITLE=17 Cedar Avenue:geo:-73.815177,45.4354552
END:VEVENT
BEGIN:VEVENT
DTSTART;TZID=America/New_York:20220308T183000
DTEND;TZID=America/New_York:20220308T200000
DTSTAMP:20260419T205350
CREATED:20220112T035059Z
LAST-MODIFIED:20220112T035059Z
UID:10001203-1646764200-1646769600@clearpointhands.ca
SUMMARY:Home & School Meeting
DESCRIPTION:
URL:https://clearpointhands.ca/event/home-school-meeting-25/2022-03-08/
LOCATION:Online
CATEGORIES:meetings
ATTACH;FMTTYPE=image/jpeg:https://clearpointhands.ca/wp-content/uploads/sites/14/2016/05/ac59abef005318578f7824723335b0ca81976a3dea4444c722305623af2d933a-uVzy2P.jpeg
ORGANIZER;CN="Home & School":MAILTO:info@clearpointhands.ca
END:VEVENT
BEGIN:VEVENT
DTSTART;TZID=America/New_York:20220321T080000
DTEND;TZID=America/New_York:20220325T143000
DTSTAMP:20260419T205350
CREATED:20220322T051732Z
LAST-MODIFIED:20220322T051732Z
UID:10000649-1647849600-1648218600@clearpointhands.ca
SUMMARY:Staff Appreciation Week
DESCRIPTION:
URL:https://clearpointhands.ca/event/staff-appreciation-week-2/
LOCATION:Clearpoint Elementary\, 17 Cedar Avenue\, Pointe-Claire\, QC\, H9S 4Y1\, Canada
CATEGORIES:School Community Events,Volunteer Activity
GEO:45.4354552;-73.815177
X-APPLE-STRUCTURED-LOCATION;VALUE=URI;X-ADDRESS=Clearpoint Elementary 17 Cedar Avenue Pointe-Claire QC H9S 4Y1 Canada;X-APPLE-RADIUS=500;X-TITLE=17 Cedar Avenue:geo:-73.815177,45.4354552
END:VEVENT
BEGIN:VEVENT
DTSTART;TZID=America/New_York:20220322T113000
DTEND;TZID=America/New_York:20220322T123000
DTSTAMP:20260419T205350
CREATED:20211005T110002Z
LAST-MODIFIED:20220207T232910Z
UID:10000632-1647948600-1647952200@clearpointhands.ca
SUMMARY:Pizza Lunch
DESCRIPTION:
URL:https://clearpointhands.ca/event/pizza-lunch-25/2022-03-22/
LOCATION:Clearpoint Elementary\, 17 Cedar Avenue\, Pointe-Claire\, QC\, H9S 4Y1\, Canada
CATEGORIES:Pizza Lunch & TCBY
ATTACH;FMTTYPE=image/jpeg:https://clearpointhands.ca/wp-content/uploads/sites/14/2016/09/1240588-e1473400214545.jpg
ORGANIZER;CN="Home & School":MAILTO:info@clearpointhands.ca
GEO:45.4354552;-73.815177
X-APPLE-STRUCTURED-LOCATION;VALUE=URI;X-ADDRESS=Clearpoint Elementary 17 Cedar Avenue Pointe-Claire QC H9S 4Y1 Canada;X-APPLE-RADIUS=500;X-TITLE=17 Cedar Avenue:geo:-73.815177,45.4354552
END:VEVENT
BEGIN:VEVENT
DTSTART;TZID=America/New_York:20220326T000000
DTEND;TZID=America/New_York:20220410T170000
DTSTAMP:20260419T205350
CREATED:20220322T051415Z
LAST-MODIFIED:20220322T051506Z
UID:10000648-1648252800-1649610000@clearpointhands.ca
SUMMARY:Maple Syrup fundraiser
DESCRIPTION:Order online between March 26 and April 10 – pick up at the school TBD.
URL:https://clearpointhands.ca/event/maple-syrup-fundraiser-4/
LOCATION:Clearpoint Elementary\, 17 Cedar Avenue\, Pointe-Claire\, QC\, H9S 4Y1\, Canada
CATEGORIES:fundraising event
ATTACH;FMTTYPE=image/png:https://clearpointhands.ca/wp-content/uploads/sites/14/2021/04/MapleSyrupCan-sq.png
GEO:45.4354552;-73.815177
X-APPLE-STRUCTURED-LOCATION;VALUE=URI;X-ADDRESS=Clearpoint Elementary 17 Cedar Avenue Pointe-Claire QC H9S 4Y1 Canada;X-APPLE-RADIUS=500;X-TITLE=17 Cedar Avenue:geo:-73.815177,45.4354552
END:VEVENT
BEGIN:VEVENT
DTSTART;TZID=America/New_York:20220328T080000
DTEND;TZID=America/New_York:20220328T143000
DTSTAMP:20260419T205350
CREATED:20211110T033402Z
LAST-MODIFIED:20211110T033648Z
UID:10001193-1648454400-1648477800@clearpointhands.ca
SUMMARY:PED day - no school
DESCRIPTION:
URL:https://clearpointhands.ca/event/ped-day-no-school-15/2022-03-28/
LOCATION:Clearpoint Elementary\, 17 Cedar Avenue\, Pointe-Claire\, QC\, H9S 4Y1\, Canada
CATEGORIES:no school
GEO:45.4354552;-73.815177
X-APPLE-STRUCTURED-LOCATION;VALUE=URI;X-ADDRESS=Clearpoint Elementary 17 Cedar Avenue Pointe-Claire QC H9S 4Y1 Canada;X-APPLE-RADIUS=500;X-TITLE=17 Cedar Avenue:geo:-73.815177,45.4354552
END:VEVENT
BEGIN:VEVENT
DTSTART;TZID=America/Toronto:20220328T183000
DTEND;TZID=America/Toronto:20220405T190000
DTSTAMP:20260419T205350
CREATED:20220322T050612Z
LAST-MODIFIED:20220401T014001Z
UID:10000647-1648492200-1649185200@clearpointhands.ca
SUMMARY:Extracurricular Activities Registration
DESCRIPTION:We’re excited to announce the return of Extracurricular Activities! Click the button below to browse the activities and to register beginning on March 28 at 6:30PM sharp!
URL:https://clearpointhands.ca/event/extracurricular-activities-registration/
LOCATION:Clearpoint Elementary\, 17 Cedar Avenue\, Pointe-Claire\, QC\, H9S 4Y1\, Canada
CATEGORIES:fundraising event
ATTACH;FMTTYPE=image/jpeg:https://clearpointhands.ca/wp-content/uploads/sites/14/2018/04/karate-kids-e1523333684504.jpg
GEO:45.4354552;-73.815177
X-APPLE-STRUCTURED-LOCATION;VALUE=URI;X-ADDRESS=Clearpoint Elementary 17 Cedar Avenue Pointe-Claire QC H9S 4Y1 Canada;X-APPLE-RADIUS=500;X-TITLE=17 Cedar Avenue:geo:-73.815177,45.4354552
END:VEVENT
BEGIN:VEVENT
DTSTART;TZID=America/New_York:20220329T080000
DTEND;TZID=America/New_York:20220329T143000
DTSTAMP:20260419T205350
CREATED:20211110T033402Z
LAST-MODIFIED:20211110T033648Z
UID:10001194-1648540800-1648564200@clearpointhands.ca
SUMMARY:PED day - no school
DESCRIPTION:
URL:https://clearpointhands.ca/event/ped-day-no-school-15/2022-03-29/
LOCATION:Clearpoint Elementary\, 17 Cedar Avenue\, Pointe-Claire\, QC\, H9S 4Y1\, Canada
CATEGORIES:no school
GEO:45.4354552;-73.815177
X-APPLE-STRUCTURED-LOCATION;VALUE=URI;X-ADDRESS=Clearpoint Elementary 17 Cedar Avenue Pointe-Claire QC H9S 4Y1 Canada;X-APPLE-RADIUS=500;X-TITLE=17 Cedar Avenue:geo:-73.815177,45.4354552
END:VEVENT
END:VCALENDAR