BEGIN:VCALENDAR
VERSION:2.0
PRODID:-//Clearpoint Home and School - ECPv6.15.20//NONSGML v1.0//EN
CALSCALE:GREGORIAN
METHOD:PUBLISH
X-ORIGINAL-URL:https://clearpointhands.ca
X-WR-CALDESC:Events for Clearpoint Home and School
REFRESH-INTERVAL;VALUE=DURATION:PT1H
X-Robots-Tag:noindex
X-PUBLISHED-TTL:PT1H
BEGIN:VTIMEZONE
TZID:America/New_York
BEGIN:DAYLIGHT
TZOFFSETFROM:-0500
TZOFFSETTO:-0400
TZNAME:EDT
DTSTART:20210314T070000
END:DAYLIGHT
BEGIN:STANDARD
TZOFFSETFROM:-0400
TZOFFSETTO:-0500
TZNAME:EST
DTSTART:20211107T060000
END:STANDARD
BEGIN:DAYLIGHT
TZOFFSETFROM:-0500
TZOFFSETTO:-0400
TZNAME:EDT
DTSTART:20220313T070000
END:DAYLIGHT
BEGIN:STANDARD
TZOFFSETFROM:-0400
TZOFFSETTO:-0500
TZNAME:EST
DTSTART:20221106T060000
END:STANDARD
BEGIN:DAYLIGHT
TZOFFSETFROM:-0500
TZOFFSETTO:-0400
TZNAME:EDT
DTSTART:20230312T070000
END:DAYLIGHT
BEGIN:STANDARD
TZOFFSETFROM:-0400
TZOFFSETTO:-0500
TZNAME:EST
DTSTART:20231105T060000
END:STANDARD
END:VTIMEZONE
BEGIN:VEVENT
DTSTART;TZID=America/New_York:20220103T080000
DTEND;TZID=America/New_York:20220103T143000
DTSTAMP:20260419T223937
CREATED:20180830T144354Z
LAST-MODIFIED:20210830T222724Z
UID:10001138-1641196800-1641220200@clearpointhands.ca
SUMMARY:Winter Break
DESCRIPTION:
URL:https://clearpointhands.ca/event/winter-break/2022-01-03/
LOCATION:Clearpoint Elementary\, 17 Cedar Avenue\, Pointe-Claire\, QC\, H9S 4Y1\, Canada
CATEGORIES:no school
GEO:45.4354552;-73.815177
X-APPLE-STRUCTURED-LOCATION;VALUE=URI;X-ADDRESS=Clearpoint Elementary 17 Cedar Avenue Pointe-Claire QC H9S 4Y1 Canada;X-APPLE-RADIUS=500;X-TITLE=17 Cedar Avenue:geo:-73.815177,45.4354552
END:VEVENT
BEGIN:VEVENT
DTSTART;TZID=America/New_York:20220104T080000
DTEND;TZID=America/New_York:20220104T143000
DTSTAMP:20260419T223937
CREATED:20180830T144354Z
LAST-MODIFIED:20210830T222724Z
UID:10001139-1641283200-1641306600@clearpointhands.ca
SUMMARY:Winter Break
DESCRIPTION:
URL:https://clearpointhands.ca/event/winter-break/2022-01-04/
LOCATION:Clearpoint Elementary\, 17 Cedar Avenue\, Pointe-Claire\, QC\, H9S 4Y1\, Canada
CATEGORIES:no school
GEO:45.4354552;-73.815177
X-APPLE-STRUCTURED-LOCATION;VALUE=URI;X-ADDRESS=Clearpoint Elementary 17 Cedar Avenue Pointe-Claire QC H9S 4Y1 Canada;X-APPLE-RADIUS=500;X-TITLE=17 Cedar Avenue:geo:-73.815177,45.4354552
END:VEVENT
BEGIN:VEVENT
DTSTART;TZID=America/New_York:20220118T183000
DTEND;TZID=America/New_York:20220118T200000
DTSTAMP:20260419T223937
CREATED:20220112T035059Z
LAST-MODIFIED:20220112T035059Z
UID:10001201-1642530600-1642536000@clearpointhands.ca
SUMMARY:Home & School Meeting
DESCRIPTION:
URL:https://clearpointhands.ca/event/home-school-meeting-25/2022-01-18/
LOCATION:Online
CATEGORIES:meetings
ATTACH;FMTTYPE=image/jpeg:https://clearpointhands.ca/wp-content/uploads/sites/14/2016/05/ac59abef005318578f7824723335b0ca81976a3dea4444c722305623af2d933a-uVzy2P.jpeg
ORGANIZER;CN="Home & School":MAILTO:info@clearpointhands.ca
END:VEVENT
BEGIN:VEVENT
DTSTART;TZID=America/New_York:20220121T080000
DTEND;TZID=America/New_York:20220121T143000
DTSTAMP:20260419T223937
CREATED:20211110T033402Z
LAST-MODIFIED:20211110T033648Z
UID:10001191-1642752000-1642775400@clearpointhands.ca
SUMMARY:PED day - no school
DESCRIPTION:
URL:https://clearpointhands.ca/event/ped-day-no-school-15/2022-01-21/
LOCATION:Clearpoint Elementary\, 17 Cedar Avenue\, Pointe-Claire\, QC\, H9S 4Y1\, Canada
CATEGORIES:no school
GEO:45.4354552;-73.815177
X-APPLE-STRUCTURED-LOCATION;VALUE=URI;X-ADDRESS=Clearpoint Elementary 17 Cedar Avenue Pointe-Claire QC H9S 4Y1 Canada;X-APPLE-RADIUS=500;X-TITLE=17 Cedar Avenue:geo:-73.815177,45.4354552
END:VEVENT
END:VCALENDAR