BEGIN:VCALENDAR
VERSION:2.0
PRODID:-//Clearpoint Home and School - ECPv6.15.20//NONSGML v1.0//EN
CALSCALE:GREGORIAN
METHOD:PUBLISH
X-ORIGINAL-URL:https://clearpointhands.ca
X-WR-CALDESC:Events for Clearpoint Home and School
REFRESH-INTERVAL;VALUE=DURATION:PT1H
X-Robots-Tag:noindex
X-PUBLISHED-TTL:PT1H
BEGIN:VTIMEZONE
TZID:America/New_York
BEGIN:DAYLIGHT
TZOFFSETFROM:-0500
TZOFFSETTO:-0400
TZNAME:EDT
DTSTART:20200308T070000
END:DAYLIGHT
BEGIN:STANDARD
TZOFFSETFROM:-0400
TZOFFSETTO:-0500
TZNAME:EST
DTSTART:20201101T060000
END:STANDARD
BEGIN:DAYLIGHT
TZOFFSETFROM:-0500
TZOFFSETTO:-0400
TZNAME:EDT
DTSTART:20210314T070000
END:DAYLIGHT
BEGIN:STANDARD
TZOFFSETFROM:-0400
TZOFFSETTO:-0500
TZNAME:EST
DTSTART:20211107T060000
END:STANDARD
BEGIN:DAYLIGHT
TZOFFSETFROM:-0500
TZOFFSETTO:-0400
TZNAME:EDT
DTSTART:20220313T070000
END:DAYLIGHT
BEGIN:STANDARD
TZOFFSETFROM:-0400
TZOFFSETTO:-0500
TZNAME:EST
DTSTART:20221106T060000
END:STANDARD
END:VTIMEZONE
BEGIN:VEVENT
DTSTART;TZID=America/New_York:20211005T063000
DTEND;TZID=America/New_York:20211005T210000
DTSTAMP:20260420T032527
CREATED:20211005T103403Z
LAST-MODIFIED:20211005T103702Z
UID:10000641-1633415400-1633467600@clearpointhands.ca
SUMMARY:EARLY BIRD Pizza Lunch Orders
DESCRIPTION:
URL:https://clearpointhands.ca/event/early-bird-pizza-lunch-orders/
LOCATION:Online
CATEGORIES:fundraising event
ATTACH;FMTTYPE=image/jpeg:https://clearpointhands.ca/wp-content/uploads/sites/14/2017/09/cheesepizza.jpg
ORGANIZER;CN="Home & School":MAILTO:info@clearpointhands.ca
END:VEVENT
BEGIN:VEVENT
DTSTART;TZID=America/New_York:20211005T063000
DTEND;TZID=America/New_York:20211020T210000
DTSTAMP:20260420T032527
CREATED:20211005T103649Z
LAST-MODIFIED:20211005T103649Z
UID:10000640-1633415400-1634763600@clearpointhands.ca
SUMMARY:Pizza Lunch Orders for first 1/2 of 2021-22
DESCRIPTION:
URL:https://clearpointhands.ca/event/pizza-lunch-orders-for-first-1-2-of-2021-22/
LOCATION:Online
CATEGORIES:fundraising event
ATTACH;FMTTYPE=image/jpeg:https://clearpointhands.ca/wp-content/uploads/sites/14/2019/09/cheesepizza-firsthalf.jpg
ORGANIZER;CN="Home & School":MAILTO:info@clearpointhands.ca
END:VEVENT
BEGIN:VEVENT
DTSTART;TZID=America/New_York:20211011T080000
DTEND;TZID=America/New_York:20211011T143000
DTSTAMP:20260420T032527
CREATED:20180830T144210Z
LAST-MODIFIED:20210830T222454Z
UID:10001129-1633939200-1633962600@clearpointhands.ca
SUMMARY:Thanksgiving - no school
DESCRIPTION:
URL:https://clearpointhands.ca/event/thanksgiving-no-school/
LOCATION:Clearpoint Elementary\, 17 Cedar Avenue\, Pointe-Claire\, QC\, H9S 4Y1\, Canada
CATEGORIES:no school
GEO:45.4354552;-73.815177
X-APPLE-STRUCTURED-LOCATION;VALUE=URI;X-ADDRESS=Clearpoint Elementary 17 Cedar Avenue Pointe-Claire QC H9S 4Y1 Canada;X-APPLE-RADIUS=500;X-TITLE=17 Cedar Avenue:geo:-73.815177,45.4354552
END:VEVENT
BEGIN:VEVENT
DTSTART;TZID=America/New_York:20211012T113000
DTEND;TZID=America/New_York:20211012T123000
DTSTAMP:20260420T032527
CREATED:20211005T110317Z
LAST-MODIFIED:20211005T110354Z
UID:10000629-1634038200-1634041800@clearpointhands.ca
SUMMARY:EARLY BIRD Pizza Lunch
DESCRIPTION:
URL:https://clearpointhands.ca/event/early-bird-pizza-lunch/
LOCATION:Clearpoint Elementary\, 17 Cedar Avenue\, Pointe-Claire\, QC\, H9S 4Y1\, Canada
CATEGORIES:Pizza Lunch & TCBY
ORGANIZER;CN="Home & School":MAILTO:info@clearpointhands.ca
GEO:45.4354552;-73.815177
X-APPLE-STRUCTURED-LOCATION;VALUE=URI;X-ADDRESS=Clearpoint Elementary 17 Cedar Avenue Pointe-Claire QC H9S 4Y1 Canada;X-APPLE-RADIUS=500;X-TITLE=17 Cedar Avenue:geo:-73.815177,45.4354552
END:VEVENT
BEGIN:VEVENT
DTSTART;TZID=America/New_York:20211012T183000
DTEND;TZID=America/New_York:20211012T200000
DTSTAMP:20260420T032527
CREATED:20211012T215208Z
LAST-MODIFIED:20211012T215406Z
UID:10001154-1634063400-1634068800@clearpointhands.ca
SUMMARY:Home & School Meeting
DESCRIPTION:NOTE: If you want to be able to have a vote at the meeting\, make sure you’ve renewed\, or if you’re new – welcome! – and paid your $20 membership fee. Online only this year at https://clearpointhands.ca/product/home-school-membership/ \n2021/2022 Home & School Meeting #1\nTuesday\, 12 October · 6:30 – 8:00pm\nGoogle Meet joining info\nVideo call link: https://meet.google.com/ajx-uynn-zbo\nOr dial: ‪(CA) +1 289-317-8352‬ PIN: ‪670 859 620‬#\nMore phone numbers: https://tel.meet/ajx-uynn-zbo?pin=8786574018845
URL:https://clearpointhands.ca/event/home-school-meeting-23/
LOCATION:Online
CATEGORIES:meetings
ATTACH;FMTTYPE=image/jpeg:https://clearpointhands.ca/wp-content/uploads/sites/14/2016/05/ac59abef005318578f7824723335b0ca81976a3dea4444c722305623af2d933a-uVzy2P.jpeg
ORGANIZER;CN="Home & School":MAILTO:info@clearpointhands.ca
END:VEVENT
END:VCALENDAR